Workbook

Sheet Summary Sheet
A4: - 10 YEAR BUDGET FORECAST
A5: Year | B5: Period | C5: Opening Balance | D5: Expected Total Contributions from Members | E5: Provisional Contributions - Work Levies | F5: Road Levies | G5: Administration Fund Income for year | H5: Infrastructure Fund committment for year | I5: Amount committed to infrastructure expenditure | J5: Admin Fund Expendenture | K5: Unplanned / Emergency Expenditure | L5: Total Infrastructure FUND & ADMIN expenditure year by year | M5: Closing balance
C6: Note A | D6: Note B | E6: Note C | F6: Note D | G6: Note E | H6: Note F | I6: Note G | J6: Note H | K6: Note I | M6: Note J
A7: 1 | B7: 01 Jul 20 -30 Jun 21 | C7: 325402 | D7: =E7+F7+G7 -> 101790 | E7: 14040 | F7: 39000 | G7: 48750 | H7: ='Infrastructure Fund 20-21'!G12+'Infrastructure Fund 20-21'!G14+'Infrastructure Fund 20-21'!G19+'Infrastructure Fund 20-21'!G23+'Infrastructure Fund 20-21'!G24+'Infrastructure Fund 20-21'!G26+'Infrastructure Fund 20-21'!G27+'Infrastructure Fund 20-21'!G27 -> 258000 | I7: ='Infrastructure Fund 20-21'!G15+'Infrastructure Fund 20-21'!G16+'Infrastructure Fund 20-21'!G17+'Infrastructure Fund 20-21'!G22 -> 39607 | J7: ='Infra -Financial Forecasts'!M29 -> 62498.83 | L7: =SUM(H7:K7) -> 360105.83 | M7: =C7+D7-L7 -> 67086.17
A8: 2 | B8: 01 Jul 21 -30 Jun 22 | C8: =M7 -> 67086.17 | D8: =E8+F8+G8 -> 101790 | E8: 14040 | F8: 39000 | G8: 48750 | H8: ='Infra -Financial Forecasts'!N26 -> 157800 | I8: 0 | J8: ='Infra -Financial Forecasts'!N29 -> 64790 | L8: =SUM(H8:K8) -> 222590 | M8: =C8+D8-L8 -> -53713.83
A9: 3 | B9: 01 Jul 22 -30 Jun 23 | C9: =M8 -> -53713.83 | D9: =E9+F9+G9 -> 101790 | E9: 14040 | F9: 39000 | G9: 48750 | H9: ='Infra -Financial Forecasts'!O26 -> 157800 | I9: 0 | J9: ='Infra -Financial Forecasts'!O29 -> 64790 | L9: =SUM(H9:K9) -> 222590 | M9: =C9+D9-L9 -> -174513.83
A10: 4 | B10: 01 Jul 23 -30 Jun 24 | C10: =M9 -> -174513.83 | D10: =E10+F10+G10 -> 101790 | E10: 14040 | F10: 39000 | G10: 48750 | H10: ='Infra -Financial Forecasts'!P26 -> 107800 | I10: 0 | J10: ='Infra -Financial Forecasts'!P29 -> 64790 | L10: =SUM(H10:K10) -> 172590 | M10: =C10+D10-L10 -> -245313.83
A11: 5 | B11: 01 Jul 24 -30 Jun 25 | C11: =M10 -> -245313.83 | D11: =E11+F11+G11 -> 101790 | E11: 14040 | F11: 39000 | G11: 48750 | H11: ='Infra -Financial Forecasts'!Q26 -> 7800 | I11: 0 | J11: ='Infra -Financial Forecasts'!Q29 -> 64790 | L11: =SUM(H11:K11) -> 72590 | M11: =C11+D11-L11 -> -216113.83
A12: 6 | B12: 01 Jul 25 -30 Jun 26 | C12: =M11 -> -216113.83 | D12: =E12+F12+G12 -> 101790 | E12: 14040 | F12: 39000 | G12: 48750 | H12: ='Infra -Financial Forecasts'!R26 -> 7800 | I12: 0 | J12: ='Infra -Financial Forecasts'!R29 -> 64790 | L12: =SUM(H12:K12) -> 72590 | M12: =C12+D12-L12 -> -186913.83
A13: 7 | B13: 01 Jul 26 -30 Jun 27 | C13: =M12 -> -186913.83 | D13: =E13+F13+G13 -> 101790 | E13: 14040 | F13: 39000 | G13: 48750 | H13: ='Infra -Financial Forecasts'!S26 -> 7800 | I13: 0 | J13: ='Infra -Financial Forecasts'!S29 -> 64790 | L13: =SUM(H13:K13) -> 72590 | M13: =C13+D13-L13 -> -157713.83
A14: 8 | B14: 01 Jul 27 -30 Jun 28 | C14: =M13 -> -157713.83 | D14: =E14+F14+G14 -> 101790 | E14: 14040 | F14: 39000 | G14: 48750 | H14: ='Infra -Financial Forecasts'!T26 -> 7800 | I14: 0 | J14: ='Infra -Financial Forecasts'!T29 -> 64790 | L14: =SUM(H14:K14) -> 72590 | M14: =C14+D14-L14 -> -128513.83
A15: 9 | B15: 01 Jul 28 -30 Jun 29 | C15: =M14 -> -128513.83 | D15: =E15+F15+G15 -> 101790 | E15: 14040 | F15: 39000 | G15: 48750 | H15: ='Infra -Financial Forecasts'!U26 -> 7800 | I15: 0 | J15: ='Infra -Financial Forecasts'!U29 -> 64790 | L15: =SUM(H15:K15) -> 72590 | M15: =C15+D15-L15 -> -99313.83
A16: 10 | B16: 01 Jul 29 -30 Jun 30 | C16: =M15 -> -99313.83 | D16: =E16+F16+G16 -> 101790 | E16: 14040 | F16: 39000 | G16: 48750 | H16: ='Infra -Financial Forecasts'!V26 -> 7800 | J16: ='Infra -Financial Forecasts'!V29 -> 64790 | L16: =SUM(H16:K16) -> 72590 | M16: =C16+D16-L16 -> -70113.83
D17: Explanatory Notes
A18: A | B18: Opening Balance | C18: The amount held in the Infrastructure Fund at the beginning of each year (year starts 01 Jul - ends 30 Jun) ie carried over from the previous year (updated amount from 30 Jun 2020)
A19: B | B19: Expected Total Contributions from Goolawah Coop Members | C19: The total Gross amount of contributions expected to be received from 78 share holders
A20: C | B20: Work Levies | C20: Additional income generated by way of work levies.
A21: D | B21: Road Levies | C21: Contribution for Roads through Levies. This is expected to alter once the Council takes over the maintenance of the roads when they are contructred to the Council specification.
A22: E | B22: Administrative income for the year | C22: 0% increase each year - Membership $625 and Road Levy $500. Work Levy $180. Total for 78 Members = $101,790
A23: F | B23: Infrastructure Fund expenditure for year | C23: The amount committed on replacement or repair of items such as buildings, machinery or fencing. This includes the funds set aside for the Nevertire road upgrade.
A24: G | B24: Amounts committed to existing infrastructure projects | C24: The amount the members have agreed to spend on infrastructure projects
A25: H | B25: Admin fund expenditure | C25: The amount spent on items such as Rates, Insurances, Tractors etc
A26: I | B26: Unplanned / Emergency Expenditure | C26: May be a contingency allowance but total generally not known until end of the year
A27: J | B27: Closing Balance | C27: The amount remaining in the Infrastructure fund at the end of each year (30 Jul) to be carried forward to following year
B33: Members | C33: Membership | D33: Road | E33: Work
B35: 78 | C35: 625 | D35: 500 | E35: 180
B37: Total collected | C37: =C35*B35 -> 48750 | D37: =D35*B35 -> 39000 | E37: =E35*B35 -> 14040

Sheet Infra -Financial Forecasts
A1: Line No. | B1: Job ID | C1: Location & Item | D1: Sub-Element | E1: Work Description | F1: Fund | G1: Comments updated at December 2019 | H1: Quantity | I1: Est. Life Remaining at May 2020 | J1: Year next Due | K1: Repay Unit owners | L1: Comments on column I or E | M1: 2020 | N1: 2021 | O1: 2022 | P1: 2023 | Q1: 2024 | R1: 2025 | S1: 2026 | T1: 2027 | U1: 2028 | V1: 2039 | W1: Total Predicted Expenditure over next 10 years | Y1: Share holder | Z1: Owner | AA1: Lot entitlement | AB1: Total entitlement | AC1: $ per lot | AD1: Total
M2: Year 1 | N2: Year 2 | O2: Year 3 | P2: Year 4 | Q2: Year 5 | R2: Year 6 | S2: Year 7 | T2: Year 8 | U2: Year 9 | V2: Year 10
A3: 1 | B3: CK | C3: Camp Kitchen | D3: Disabled Toilets | E3: Annual Contribution to repair / replace Toilets to DA requirements and when end of life. | F3: Infrastructure/Sinking | G3: Requirement of DA but will also require maintenance over time | H3: 1 | I3: 20Y | J3: 2040 | M3: 100 | N3: 100 | O3: 100 | P3: 100 | Q3: 100 | R3: 100 | S3: 100 | T3: 100 | U3: 100 | V3: 100 | W3: =SUM(M3:V3) -> 1000 | Y3: 1
A4: 2 | B4: CK/LR | C4: Camp Kitchen/Last Resort/Machinery Shed | D4: Storm and Fire protection | E4: Annual Contribution to Seal potential storm water entry points. Ensure Fire pump is in good order and water supply available. Maintain Fire Protection Zone around CK. | F4: Infrastructure/Sinking | G4: Ensure fire protection is in working order, ensure roof does not leak. | H4: 1 | I4: 20Y | J4: 2040 | M4: 100 | N4: 100 | O4: 100 | P4: 100 | Q4: 100 | R4: 100 | S4: 100 | T4: 100 | U4: 100 | V4: 100 | W4: =SUM(M4:V4) -> 1000 | Y4: 2
A5: 3 | B5: LR | C5: Last Resort | D5: finish to certification | E5: Annual Contirbution to complete last resort. Annual contribution to fund possible future leaks arising from severe storms. Ensure Fire Protection Zone and equipment is per DA specification. | F5: Infrastructure/Sinking | G5: No budget provision exists. Suggest we allow $100 per year to meet storm damage repair and Protection Zones in maintenance not covered by insurance | H5: 1 | I5: 20Y | J5: 2040 | M5: 100 | N5: 100 | O5: 100 | P5: 100 | Q5: 100 | R5: 100 | S5: 100 | T5: 100 | U5: 100 | V5: 100 | W5: =SUM(M5:V5) -> 1000 | Y5: 3
A6: 4 | B6: CK | C6: Camp Kitchen/Last Resort/Machinery Shed | D6: Guttering | E6: Annual contribution to replace guttering at end of life | F6: Infrastructure/Sinking | G6: Camp Kitchen, Machinery Shed and Last Resort | H6: 40 | I6: 107 | J6: 2030 | M6: 100 | N6: 100 | O6: 100 | P6: 100 | Q6: 100 | R6: 100 | S6: 100 | T6: 100 | U6: 100 | V6: 100 | W6: =SUM(M6:V6) -> 1000 | Y6: 4
A7: 5 | B7: CK | C7: Camp Kitchen/Last Resort/Machinery Shed | D7: Down pipes | E7: Annual contribution to repair / replace down pipes. | F7: Infrastructure/Sinking | G7: Camp Kitchen, Machinery Shed and Last Resort | H7: 100 | I7: 10Y | J7: 2030 | M7: 50 | N7: 50 | O7: 50 | P7: 50 | Q7: 50 | R7: 50 | S7: 50 | T7: 50 | U7: 50 | V7: 50 | W7: =SUM(M7:V7) -> 500 | Y7: 5
A8: 6 | B8: CK | C8: Camp Kitchen/Last Resort/Machinery Shed | D8: tanks | E8: Annual contribution to replace at end of life or additions | F8: Infrastructure/Sinking | H8: 3 | I8: 10Y | J8: 2030 | M8: 300 | N8: 300 | O8: 300 | P8: 300 | Q8: 300 | R8: 300 | S8: 300 | T8: 300 | U8: 300 | V8: 300 | W8: =SUM(M8:V8) -> 3000 | Y8: 6
A9: 7 | F9: Infrastructure/Sinking | H9: 0 | W9: =SUM(M9:V9) -> 0 | Y9: 7
A10: 8 | B10: CK | C10: Camp Kitchen, Last Resort | D10: Doors, Internal and External walls, Kitchen etc | E10: Annual contribution towards maintenance or replacement | F10: Infrastructure/Sinking | H10: 2 | I10: 10y | J10: 2030 | M10: 50 | N10: 50 | O10: 50 | P10: 50 | Q10: 50 | R10: 50 | S10: 50 | T10: 50 | U10: 50 | V10: 50 | W10: =SUM(M10:V10) -> 500 | Y10: 8
A11: 10 | B11: CK | C11: Camp Kitchen | D11: Solar panels | E11: Annual contribution for replacement or Total failure | F11: Infrastructure/Sinking | H11: 1 | I11: 10Y | J11: 2030 | M11: 50 | N11: 50 | O11: 50 | P11: 50 | Q11: 50 | R11: 50 | S11: 50 | T11: 50 | U11: 50 | V11: 50 | W11: =SUM(M11:V11) -> 500 | Y11: 10
A12: 11 | B12: CK | C12: Camp Kitchen | D12: Electricals | E12: Annual contribution to replace at end of life or unsafe. | F12: Infrastructure/Sinking | I12: 20Y | J12: 2040 | M12: 100 | N12: 100 | O12: 100 | P12: 100 | Q12: 100 | R12: 100 | S12: 100 | T12: 100 | U12: 100 | V12: 100 | W12: =SUM(M12:V12) -> 1000 | Y12: 11
A13: 12 | B13: CK | C13: Camp Kitchen | D13: lights | E13: Annual contribution to Replace lights | F13: Infrastructure/Sinking | H13: 5 | I13: 20Y | J13: 2025 | M13: 50 | N13: 50 | O13: 50 | P13: 50 | Q13: 50 | R13: 50 | S13: 50 | T13: 50 | U13: 50 | V13: 50 | W13: =SUM(M13:V13) -> 500 | Y13: 12
A14: 13 | C14: Roads | D14: Internal | E14: Annual contribution to grade and repair Internal roads, Illa Langi and pot holes | F14: Administration | H14: 10KM | I14: 10Y | J14: 2030 | L14: Costs for this is usually part of the Working contribution | M14: 10000 | N14: 10000 | O14: 10000 | P14: 10000 | Q14: 10000 | R14: 10000 | S14: 10000 | T14: 10000 | U14: 10000 | V14: 10000 | W14: =SUM(M14:V14) -> 100000 | Y14: 13
A15: 14 | C15: Roads | D15: External | E15: Maintain Nevertireuntil Council accepts | F15: Administration | G15: If Council does not accept responsibility for this then this cost will need to be added to the infrastructure fund. | H15: 3.8KM | I15: 5Y | J15: 2025 | M15: 5000 | N15: 5000 | O15: 5000 | P15: 5000 | W15: =SUM(M15:V15) -> 20000 | Y15: 14
A16: 15 | B16: FENCE | C16: Fences | D16: Replace | E16: Annual contribution to replace fences | F16: Infrastructure/Sinking | H16: 10KM | I16: 10Y | J16: 2030 | M16: 500 | N16: 500 | O16: 500 | P16: 500 | Q16: 500 | R16: 500 | S16: 500 | T16: 500 | U16: 500 | V16: 500 | W16: =SUM(M16:V16) -> 5000 | Y16: 15
A17: 16 | C17: Fencing | D17: Repair | E17: Maintain/Restore fence when broken or animals enter | F17: Administration | H17: 10KM | I17: 10Y | J17: 2030 | M17: 200 | N17: 200 | O17: 200 | P17: 200 | Q17: 200 | R17: 200 | S17: 200 | T17: 200 | U17: 200 | V17: 200 | W17: =SUM(M17:V17) -> 2000 | Y17: 16
A18: 17 | C18: Mail Boxes | E18: Repair as required, paint etc | F18: Administration | H18: 3 | I18: 5Y | J18: 2025 | M18: 20 | N18: 20 | O18: 20 | P18: 20 | Q18: 20 | R18: 20 | S18: 20 | T18: 20 | U18: 20 | V18: 20 | W18: =SUM(M18:V18) -> 200 | Y18: 17
A19: 18 | C19: Grounds & Gardening | D19: Slashing of Common areas | E19: Maintain and review need for improvements | F19: Administration | G19: Ongoing Maint Work | H19: 10 Acres | I19: 20 yr | J19: 2040 | L19: Costs for this is usually part of the Working contribution | M19: 5000 | N19: 5000 | O19: 5000 | P19: 5000 | Q19: 5000 | R19: 5000 | S19: 5000 | T19: 5000 | U19: 5000 | V19: 5000 | W19: =SUM(M19:V19) -> 50000 | Y19: 18
A20: 19 | B20: TM | C20: Machinery | D20: Fire Prevention and maintenance | E20: Annual Contribution for replacement, upgrading | F20: Infrastructure/Sinking | G20: Two tractors, two slashers, two Fire Strikers, | H20: 6 | I20: 3Y | J20: 2023 | L20: Costs for Maintenance, oil, desiel, tyres, motor repairs, slasher repairs, Fire equipment for machinery eg. Water tanks | M20: 5000 | N20: 5000 | O20: 5000 | P20: 5000 | Q20: 5000 | R20: 5000 | S20: 5000 | T20: 5000 | U20: 5000 | V20: 5000 | W20: =SUM(M20:V20) -> 50000 | Y20: 17
A21: 20 | C21: Pest Control | D21: Barrier, Traps or baits | E21: Pigs, Dogs etc | F21: Administration | G21: Yearly issue, Admin Fund | H21: 20 | I21: 5y | J21: 2025 | M21: 500 | N21: 500 | O21: 500 | P21: 500 | Q21: 500 | R21: 500 | S21: 500 | T21: 500 | U21: 500 | V21: 500 | W21: =SUM(M21:V21) -> 5000 | Y21: 20
A22: 21 | C22: Contingency | F22: Administration
B23: CW | C23: Common Water pipes, tanks | F23: Infrastructure/Sinking | H23: 1 | I23: 10Y | J23: 2030 | L23: Costs to fully replace common property water pipes, connections and tanks | M23: 300 | N23: 300 | O23: 300 | P23: 300 | Q23: 300 | R23: 300 | S23: 300 | T23: 300 | U23: 300 | V23: 300 | W23: =SUM(M23:V23) -> 3000
B24: CD | C24: Common Dams | F24: Infrastructure/Sinking | H24: 6 | I24: 10y | J24: 2030 | L24: Costs to repair all Common property dams | M24: 1000 | N24: 1000 | O24: 1000 | P24: 1000 | Q24: 1000 | R24: 1000 | S24: 1000 | T24: 1000 | U24: 1000 | V24: 1000 | W24: =SUM(M24:V24) -> 10000
A25: 22 | B25: DA ROADS | C25: External Road Build | D25: Nevertire and Illa Langi road | E25: Design, Construct and seal | F25: Infrastructure/Sinking | G25: Nevertire to be constructed to Council DA requirements, Illa Langi to be All Weather road | H25: 2 | I25: 5y | J25: 2025 | M25: 250000 | N25: 150000 | O25: 150000 | P25: 100000 | Q25: 0 | R25: 0 | S25: 0 | T25: 0 | U25: 0 | V25: 0 | W25: =SUM(M25:V25) -> 650000 | Y25: 21
A26: Subtotals | C26: Subtotals | M26: =(M25+M24+M23+M20+M16+M13+M12+M11+M10+M8+M7+M6+M5+M4+M3) -> 257800 | N26: =(N25+N24+N23+N20+N16+N13+N12+N11+N10+N8+N7+N6+N5+N4+N3) -> 157800 | O26: =(O25+O24+O23+O20+O16+O13+O12+O11+O10+O8+O7+O6+O5+O4+O3) -> 157800 | P26: =(P25+P24+P23+P20+P16+P13+P12+P11+P10+P8+P7+P6+P5+P4+P3) -> 107800 | Q26: =(Q25+Q24+Q23+Q20+Q16+Q13+Q12+Q11+Q10+Q8+Q7+Q6+Q5+Q4+Q3) -> 7800 | R26: =(R25+R24+R23+R20+R16+R13+R12+R11+R10+R8+R7+R6+R5+R4+R3) -> 7800 | S26: =(S25+S24+S23+S20+S16+S13+S12+S11+S10+S8+S7+S6+S5+S4+S3) -> 7800 | T26: =(T25+T24+T23+T20+T16+T13+T12+T11+T10+T8+T7+T6+T5+T4+T3) -> 7800 | ... W26: =(W25+W24+W23+W20+W16+W13+W12+W11+W10+W8+W7+W6+W5+W4+W3) -> 728000 | Y26: 22
A27: Contingency Expenses !0% per year | M27: 21880 | N27: 750 | O27: 750 | P27: 750 | Q27: 750 | R27: 750 | S27: 750 | T27: 750 | U27: 750 | V27: 750 | W27: =SUM(M27:V27) -> 28630 | Y27: 23
A28: Totals of Infrastructure fund Expenses only | M28: =SUM(M26:M27) -> 279680 | N28: =SUM(N26:N27) -> 158550 | O28: =SUM(O26:O27) -> 158550 | P28: =SUM(P26:P27) -> 108550 | Q28: =SUM(Q26:Q27) -> 8550 | R28: =SUM(R26:R27) -> 8550 | S28: =SUM(S26:S27) -> 8550 | T28: =SUM(T26:T27) -> 8550 | ... W28: =SUM(W26:W27) -> 756630 | Y28: 24
A29: Administrative Fund expenses | M29: ='Administrative Fund 20-21'!G49 -> 62498.83 | N29: ='Administrative Fund 20-21'!C9 -> 64790 | O29: ='Administrative Fund 20-21'!C9 -> 64790 | P29: 64790 | Q29: 64790 | R29: 64790 | S29: 64790 | T29: 64790 | U29: 64790 | V29: 64790 | W29: =SUM(M29:V29) -> 645608.83 | Y29: 25
M30: =SUM(M28:M29) -> 342178.83 | N30: =SUM(N28:N29) -> 223340 | O30: =SUM(O28:O29) -> 223340 | P30: =SUM(P28:P29) -> 173340 | Q30: =SUM(Q28:Q29) -> 73340 | R30: =SUM(R28:R29) -> 73340 | S30: =SUM(S28:S29) -> 73340 | T30: =SUM(T28:T29) -> 73340 | ... W30: =SUM(W28:W29) -> 1402238.8 | Y30: 26
Y31: 27
Y32: 28
Y33: 29
Y34: 30
Y35: 31
Y36: 32
Y37: 33
Y38: 34
Y39: 35
Y40: 36
...

Sheet Administrative Fund 20-21
A2: Administrative Fund
A3: Income
A5: Job ID | B5: Item | C5: Description
A6: ML | B6: Membership Levy | C6: =F6*78 -> 48750 | E6: Levy | F6: 625
A7: WL | B7: Work Levy | C7: =F7*78 -> 14040 | E7: Levy | F7: 180
B8: Interest from Bank | C8: 2000
B9: Total Admin income | C9: =SUM(C6:C8) -> 64790 | F9: =SUM(F6:F8) -> 805
A11: Expenses
A13: Job ID | B13: Description | C13: Item | E13: Budget 2019 - 2020 | F13: Actual | G13: Budget 2020 - 2021 | I13: Notes
A14: APZ | B14: Fire Management APZ Maintenance (Annual - DA requirement) | E14: 5000 | F14: 1265.76 | G14: 2500 | I14: Continued maintenanced of Fire Zones and Trails
A16: CAF | B16: Cemetery Application Fees (Project) | E16: 500 | F16: 0 | G16: 0 | I16: To be reviewed if feasible.
A18: CKM | B18: Camp Kitchen maintenance (Annual) | E18: 1000 | F18: 237.79 | G18: 500 | I18: Maintenance, repairs and supply of goods, eg. Tea, Coffee, plates, electricals, etc
B20: Work Claims out of Budget items | F20: 4000 | G20: 4000 | I20: Not included
C21: DA Road Fund (DA Project)
A22: Fence NB | B22: Fencing repairs Goolawah | E22: 6450 | F22: 6450 | G22: 500
A25: FS 2 | B25: Fire Striker #2 (Project) | C25: Review to close | E25: 6386.51 | F25: 6501.77 | G25: 0
A28: INS | B28: Insurance | C28: Annual insurance | E28: 5607.3 | F28: 8473.44 | G28: 8500
A31: LCM | B31: Land Care Maintenance (Annual) | E31: 0 | F31: 0 | G31: 400 | I31: Trees, Soil, Pest control.
A34: MAS | B34: Mobile Artist Stage (Project) | C34: MAS Project | E34: 4000 | F34: 3401.17 | G34: 598.83 | I34: Review to close
A36: RATES | B36: Rates Annual | C36: Council Rates | E36: 8000 | F36: 8259 | G36: 8500 | I36: Council Rates, Crown enclosure permit
A38: RM | B38: Road Maintenance Internal and external (Annual) | E38: 28550 | F38: 25000 | G38: 25000 | I38: Adjusted but may need to be higher, or additional funds to be transferred from the Infrastructure fund.
A40: _SCC | B40: Share Capital transfer/return | C40: Vismay membership | E40: 7000 | F40: 0 | G40: 0 | I40: Not transferred to 20-21
A43: TM | B43: Tractor and Machinery maintenance | E43: 5000 | F43: 359.82 | G43: 2000 | I43: Fuel and Oil, Slasher, Tractor and Striker repairs
B45: Banking and Admin Fees
B46: Miscellaneous
B47: Contingency on non-Road items | G47: 10000
B48: Surplus or Deficit from 2019-20 | I48: Surplus or Deficit not included
B49: Total | E49: =SUM(E14:E48) -> 77493.81 | F49: =SUM(F14:F48) -> 63948.75 | G49: =SUM(G14:G48) -> 62498.83
B51: Note: Some projects are over multiple years but have been rolled into the 2019-20 year
B53: Admin plus Work Levy per Share | C53: Number of Shares
B54: =(G49)/C54 -> 801.26705 | C54: 78 | E54: Note: Admin Levy and Work Ley remain the same for this finanacial year

Sheet Infrastructure Fund 20-21
A1: Infrastructure Fund (Sinking fund for future repair, replacement and upgrades)
A3: Income
A4: Job ID | B4: Item | C4: Description
A5: RL | B5: Road Levy | C5: 39000
B6: Total | C6: =SUM(C5) -> 39000
A8: Expense
A10: Job ID | B10: Description | C10: Item | E10: Budget 2019 - 2020 | F10: Actual | G10: Budget 2020 - 2021 | H10: Accumulated Amount | I10: Notes
A12: CK | B12: Camp Kitchen upgrade/replace/repair | C12: Camp Kitchen and Machinery shed | E12: 0 | F12: 0 | G12: 900 | H12: 0 | I12: sinking fund for future end of life or upgrade
A14: DA ROAD | B14: DA Road Fund (DA Project) | C14: Nevertire road upgrade stage 1 | E14: 50333.8 | F14: 47767.4 | G14: 250000 | H14: 254620 | I14: Funds available 253466.59 at 14 May 2020, with $20K transferred to Legal
A15: DA SE | B15: DA Supervising Engineer (Project) | C15: DA Supervising Engineer costs | E15: 0 | F15: 0 | G15: 5000 | I15: To fund Supervising Engineer Funded from Road Fund
A16: DA LS | B16: DA Legal Project | C16: DA Legal expenses | E16: 0 | F16: 850 | G16: 20000 | I16: Funded from Road fund
A17: CKT | B17: DA Camp Kitchen Disabled Toilets Project | C17: DA CK construction | E17: 0 | F17: 0 | G17: 10000 | I17: Funded from Road Fund
B19: Fencing replacement Goolawah boundary | C19: All boundary fencing | E19: 0 | F19: 0 | G19: 500 | H19: 0 | I19: sinking fund for future replacement
A22: LR | B22: DA Last Resort (Project) | C22: LR Construction | E22: 29700 | F22: 25192.54 | G22: 4607 | H22: 0
A23: LRM | B23: Last Resort upgrade or repair | C23: Last Resort Sinking costs
A24: TM | B24: Tractor and Machinery replacement | C24: Tractor and Machinery Sinking costs | E24: 0 | F24: 0 | G24: 5000 | H24: 0 | I24: sinking fund for future replacement
A26: DM | B26: Dam repair sinking | C26: Dam repair sinking | G26: 1000 | I26: sinking fund for future replacement
A27: WM | B27: Water pipes, tanks, replace/repair | C27: Water infrastructure sinking | G27: 300 | I27: sinking fund for future replacement
B30: Total | E30: =SUM(E12:E29) -> 80033.8 | F30: =SUM(F12:F29) -> 73809.94 | G30: =SUM(G12:G29) -> 297307 | H30: =SUM(H11:H29) -> 254620 | I30: Within Budget this year but overbudget for next 3 years
B32: Note: Some projects are over multiple years but have been rolled into the 2020-21 year
B34: Infrastructure Levy per Share | C34: Number of Shares
B35: =(G30-H14)/C35 -> 547.26923 | C35: 78 | E35: Note. The levy is calculated by dividing the total of all expected sinking amounts minus the accumulated road levy of $254630 by the number of shares.

Sheet Administrative Fund 21-22
A2: Administrative Fund
A3: Income
A5: Job ID | B5: Item | C5: Description
A6: ML | B6: Membership Levy | C6: =D6*78 -> 48750 | D6: 625
A7: WL | B7: Work Levy | C7: =D7*78 -> 14040 | D7: 180
B8: Interest from Bank | C8: 2000
B9: Total Admin income | C9: =SUM(C6:C8) -> 64790 | D9: =SUM(D6:D8) -> 805
A11: Expenses
A13: Job ID | B13: Description | C13: Item | E13: Budget 2020 - 2021 | F13: Actual | G13: Budget 2021 - 2022 | I13: Notes | J13: Budget Responsibility
A15: APZ | B15: Fire Management APZ Maintenance (Annual - DA requirement) | E15: 2500 | F15: 410.71 | G15: 2500 | I15: Continued maintenanced of Fire Zones and Trails | J15: Craig S
A17: CAF | B17: Cemetery Application Fees (Project) | E17: 0 | G17: 500 | J17: Directors
A19: CKM | B19: Camp Kitchen maintenance (Annual) | E19: 500 | F19: 56.55 | G19: 500 | I19: Maintenance, repairs and supply of goods, eg. Tea, Coffee, plates, electricals, etc | J19: Craig
B21: Work Claims out of Budget items | E21: 4000 | G21: 4000 | I21: To allow for claims to ensure levies meet expenses | J21: Directors
A23: Fence NB | B23: Fencing repairs Goolawah | E23: 500 | F23: 0 | G23: 500 | J23: Adam
A26: FS 2 | B26: Fire Striker #2 (Project) | C26: Review to close | E26: 0 | G26: 0 | I26: Closed | J26: Kevin
A29: INS | B29: Insurance | C29: Annual insurance | E29: 8500 | F29: 9968.41 | G29: 8500 | I29: Changed insurers and end dates of insurance | J29: Secretary
A32: LCM | B32: Land Care Maintenance (Annual) | E32: 400 | F32: 39.18 | G32: 400 | I32: Trees, Soil, Pest control. | J32: Adam
A35: MAS | B35: Mobile Artist Stage (Project) | C35: MAS Project | E35: 598.83 | I35: Closed | J35: Wayne
A37: RATES | B37: Rates Annual | C37: Council Rates | E37: 8500 | F37: 9970.4 | G37: 10000 | I37: Council Rates, Crown enclosure permit | J37: Secretary
A39: RM | B39: Road Maintenance Internal and external (Annual) | E39: 25000 | F39: 2913.25 | G39: 30000 | I39: Adjusted but may need to be higher, or additional funds to be transferred from the Infrastructure fund. | J39: Callum
A41: TM | B41: Tractor and Machinery maintenance | E41: 2000 | F41: 2682.18 | G41: 2500 | I41: Fuel and Oil, Slasher, Tractor and Striker repairs | J41: Kevin
A43: ADMIN | B43: Banking Fees and Admin costs | E43: 0 | F43: 2987.34 | G43: 2500 | I43: drawn from Contingency in 20/21 | J43: Directors
A44: CONS | B44: Consumables | E44: 0 | F44: 18.02 | G44: 100
B45: Contingency on non-Road items | E45: 10000 | G45: 10000 | I45: Used for unbudgetted amounts or where overspending is approved. | J45: Directors
B46: Surplus or Deficit | I46: Surplus or Deficit not included
B47: Total | E47: =SUM(E15:E46) -> 62498.83 | F47: =SUM(F15:F46) -> 29046.04 | G47: =SUM(G15:G46) -> 72000 | I47: Surplus due to limited Road maintenance and Work claims not included at this stage
B49: Note: Some projects are over multiple years but have been rolled into the 2019-20 year
B51: Membership plus Work Levy per Share | C51: Number of Shares
B52: =(G47)/C52 -> 923.07692 | C52: 78

Sheet Infrastructure Fund 21-22
A1: Infrastructure Fund (Sinking fund for future repair, replacement and upgrades)
A3: Income
A4: Job ID | B4: Item | C4: Description
A5: RL | B5: Road Levy | C5: 39000
B6: Total | C6: =SUM(C5) -> 39000 | E6: =C6/78 -> 500
A8: Expense
A10: Job ID | B10: Description | C10: Item | E10: Budget 2020 - 2021 | F10: Actual | G10: Budget 2021-2022 | H10: Accumulated Amount/ remaining budget | I10: Notes | J10: Budget Responsibility
A12: CK | B12: Camp Kitchen upgrade/replace/repair | C12: Camp Kitchen and Machinery shed | E12: 500 | F12: 0 | G12: 500 | H12: 500 | I12: sinking fund for future end of life or upgrade | J12: Craig
A14: DA ROAD | B14: DA Road Fund (DA Project) | C14: Nevertire road upgrade stage 1 | E14: 250000 | F14: 0 | G14: 30000 | H14: 219560.39 | I14: Funds available after transferred to DA projects | J14: Wayne
A15: DA SE | B15: DA Supervising Engineer (Project) | C15: DA Supervising Engineer costs | E15: 5000 | F15: 0 | G15: 0 | H15: 5000 | I15: To fund Supervising Engineer Funded from Road Fund | J15: Wayne
A16: DA LS | B16: DA Legal Project | C16: DA Legal expenses | E16: 20000 | F16: 14629.7 | G16: 0 | H16: 5370.3 | I16: Funded from Road fund.$2500 in trust | J16: Wayne
B17: DA Traffic Consultants | C17: DA Traffic | E17: 10000 | F17: 4444 | G17: 0 | H17: 5556 | I17: Funded from Road fund. $3850 in Trust. | J17: Wayne
A18: CKT | B18: DA Camp Kitchen Disabled Toilets Project | C18: DA CK construction | E18: 10000 | F18: 6363.16 | G18: 2500 | H18: 3636.84 | I18: Project - Funded from Road Fund, budget carry over | J18: Wayne
A20: ABF | B20: Fencing replacement Goolawah boundary | C20: All boundary fencing | E20: 500 | F20: 0 | G20: 500 | H20: 500 | I20: sinking fund for future replacement | J20: Adam
A23: LR | B23: DA Last Resort (Project) | C23: LR Construction | E23: 29200 | F23: 26354.03 | G23: 0 | H23: 3345.97 | I23: Project - budget carry over | J23: Craig
A24: LRM | B24: Last Resort upgrade or repair | C24: Last Resort Sinking costs | F24: 0 | G24: 500 | H24: 0 | J24: Craig
A25: TM | B25: Tractor and Machinery replacement | C25: Tractor and Machinery Sinking costs | E25: 5000 | F25: 0 | G25: 5000 | H25: 5000 | I25: sinking fund for future replacement | J25: Kevin
A27: DM | B27: Dam repair sinking | C27: Dam repair sinking | E27: 1000 | F27: 0 | G27: 1000 | H27: 1000 | I27: sinking fund for future replacement | J27: Adam
A28: WM | B28: Water pipes, tanks, replace/repair | C28: Water infrastructure sinking | E28: 300 | F28: 0 | G28: 300 | H28: 300 | I28: sinking fund for future replacement | J28: Adam
B31: Total | E31: =SUM(E12:E30) -> 331500 | F31: =SUM(F12:F30) -> 51790.89 | G31: =SUM(G12:G30) -> 40300 | H31: =SUM(H12:H30) -> 249769.5 | I31: Within Budget this year but overbudget for next 3 years
B33: Note: Some projects are over multiple years but have been rolled into the 2021-22 year
B35: Infrastructure Levy per Share | C35: Number of Shares
B36: =G31/C36 -> 516.66667 | C36: 78 | E36: Note: The Infrastructure levy
